BEGIN:VCALENDAR
VERSION:2.0
PRODID:-//Meridianu - ECPv6.3.4//NONSGML v1.0//EN
CALSCALE:GREGORIAN
METHOD:PUBLISH
X-WR-CALNAME:Meridianu
X-ORIGINAL-URL:https://meridianu.com
X-WR-CALDESC:évènements pour Meridianu
REFRESH-INTERVAL;VALUE=DURATION:PT1H
X-Robots-Tag:noindex
X-PUBLISHED-TTL:PT1H
BEGIN:VTIMEZONE
TZID:Europe/Paris
BEGIN:DAYLIGHT
TZOFFSETFROM:+0100
TZOFFSETTO:+0200
TZNAME:CEST
DTSTART:20250330T010000
END:DAYLIGHT
BEGIN:STANDARD
TZOFFSETFROM:+0200
TZOFFSETTO:+0100
TZNAME:CET
DTSTART:20251026T010000
END:STANDARD
BEGIN:DAYLIGHT
TZOFFSETFROM:+0100
TZOFFSETTO:+0200
TZNAME:CEST
DTSTART:20260329T010000
END:DAYLIGHT
BEGIN:STANDARD
TZOFFSETFROM:+0200
TZOFFSETTO:+0100
TZNAME:CET
DTSTART:20261025T010000
END:STANDARD
END:VTIMEZONE
BEGIN:VEVENT
DTSTART;TZID=Europe/Paris:20260416T183000
DTEND;TZID=Europe/Paris:20260416T183000
DTSTAMP:20260422T104713
CREATED:20260212T082133Z
LAST-MODIFIED:20260212T082133Z
UID:2380-1776364200-1776364200@meridianu.com
SUMMARY:ILE ROUSSE_ [ EGLISE DE LA MISERICORDE (DITE DES MOINES) ]
DESCRIPTION:ILE ROUSSE – EGLISE DE LA MISERICORDE (DITE DES MOINES) \nJeudi 16 Avril à 18:30 \nBillets en vente a l’office du tourisme de l’Ile Rousse et sur place à partir de 1h avant le concert\nTarif : 25 € (gratuit pour les – 16 ans )
URL:https://meridianu.com/event/ile-rousse_-eglise-de-la-misericorde-dite-des-moines-9/
END:VEVENT
BEGIN:VEVENT
DTSTART;TZID=Europe/Paris:20260415T183000
DTEND;TZID=Europe/Paris:20260415T183000
DTSTAMP:20260422T104713
CREATED:20260212T081909Z
LAST-MODIFIED:20260212T081909Z
UID:2378-1776277800-1776277800@meridianu.com
SUMMARY:LUMIO_ [ EGLISE STE MARIE ]
DESCRIPTION:LUMIO – EGLISE STE MARIE \nMercredi 15 Avril à 18:30 \nBillets en vente a l’office du tourisme de Calvi et sur place à partir de 1h avant le concert\nTarif : 25 € (gratuit pour les – 16 ans )
URL:https://meridianu.com/event/lumio_-eglise-ste-marie-9/
END:VEVENT
BEGIN:VEVENT
DTSTART;TZID=Europe/Paris:20260412T170000
DTEND;TZID=Europe/Paris:20260412T170000
DTSTAMP:20260422T104713
CREATED:20260212T081519Z
LAST-MODIFIED:20260212T081519Z
UID:2376-1776013200-1776013200@meridianu.com
SUMMARY:GREOUX-LES-BAINS (04) [ Festival Greoux in Corsica]
DESCRIPTION:GREOUX-LES-BAINS – Festival Greoux in Corsica\nDimanche 12 Avril à 17:00 \n 
URL:https://meridianu.com/event/greoux-les-bains-04-festival-greoux-in-corsica/
END:VEVENT
BEGIN:VEVENT
DTSTART;TZID=Europe/Paris:20251227T170000
DTEND;TZID=Europe/Paris:20251227T170000
DTSTAMP:20260422T104713
CREATED:20251112T144013Z
LAST-MODIFIED:20251112T144013Z
UID:2373-1766854800-1766854800@meridianu.com
SUMMARY:ALGAJOLA [ ÉGLISE ST GEORGES ]
DESCRIPTION:ALGAJOLA – ÉGLISE ST GEORGES \nSamedi 27 Decembre à 17:00 \nConcert au profit de l’association paroissiale d’Algajola aprés le concert suivra un verre de l’amitié \nBillets en vente sur place à 1h avant le concert\nTarif : 15 € (gratuit pour les enfants de -16 ans)
URL:https://meridianu.com/event/algajola-eglise-st-georges-8/
END:VEVENT
BEGIN:VEVENT
DTSTART;TZID=Europe/Paris:20251221T160000
DTEND;TZID=Europe/Paris:20251221T160000
DTSTAMP:20260422T104713
CREATED:20251021T083817Z
LAST-MODIFIED:20251021T083817Z
UID:2364-1766332800-1766332800@meridianu.com
SUMMARY:LONGUENESSE (62) [ CHAPELLE DE LA VALEUR]
DESCRIPTION:LONGUENESSE – CHAPELLE DE LA VALEUR\nDimanche 21 Decembre à 16:00 \nBillets en vente sur place à 1h avant le concert\nTarif : 20 € (gratuit pour les enfants de -16 ans) \n 
URL:https://meridianu.com/event/longuenesse-62-chapelle-de-la-valeur/
END:VEVENT
BEGIN:VEVENT
DTSTART;TZID=Europe/Paris:20251220T200000
DTEND;TZID=Europe/Paris:20251220T200000
DTSTAMP:20260422T104713
CREATED:20251021T083436Z
LAST-MODIFIED:20251021T083436Z
UID:2362-1766260800-1766260800@meridianu.com
SUMMARY:LA BASSEE (59) [ EGLISE ST VAAST ]
DESCRIPTION:LA BASSEE – EGLISE ST VAAST\nSamedi 20 Decembre à 20:00 \nBillets en vente sur place à 1h avant le concert\nTarif : 20 € (gratuit pour les enfants de -16 ans)
URL:https://meridianu.com/event/la-bassee-59-eglise-st-vaast/
END:VEVENT
BEGIN:VEVENT
DTSTART;TZID=Europe/Paris:20251219T200000
DTEND;TZID=Europe/Paris:20251219T200000
DTSTAMP:20260422T104713
CREATED:20251021T083127Z
LAST-MODIFIED:20251021T083127Z
UID:2360-1766174400-1766174400@meridianu.com
SUMMARY:BRUAY-LA-BUISSIERE (62) [ EGLISE ST ELOI ST MARTIN ]
DESCRIPTION:BRUAY-LA-BUISSIERE – EGLISE ST ELOI ST MARTIN \nVendredi  19 Decembre à 20:00 \n 
URL:https://meridianu.com/event/bruay-la-buissiere-62-eglise-st-eloi-st-martin/
END:VEVENT
BEGIN:VEVENT
DTSTART;TZID=Europe/Paris:20251214T160000
DTEND;TZID=Europe/Paris:20251214T160000
DTSTAMP:20260422T104713
CREATED:20251021T081602Z
LAST-MODIFIED:20251021T082606Z
UID:2356-1765728000-1765728000@meridianu.com
SUMMARY:ROUBAIX (59) [ EGLISE ST JOSEPH ]
DESCRIPTION:ROUBAIX – EGLISE ST JOSEPH\nDIMANCHE 14 Decembre à 16:00 \n 
URL:https://meridianu.com/event/roubaix-59-eglise-st-joseph/
END:VEVENT
BEGIN:VEVENT
DTSTART;TZID=Europe/Paris:20251213T200000
DTEND;TZID=Europe/Paris:20251213T200000
DTSTAMP:20260422T104713
CREATED:20251021T081229Z
LAST-MODIFIED:20251021T081229Z
UID:2354-1765656000-1765656000@meridianu.com
SUMMARY:BAILLEUL (59) [ EGLISE ST VAAST ]
DESCRIPTION:BAILLEUL – EGLISE ST VAAST\nSamedi 13 Decembre à 20:00 \nBillets en vente sur place à 1h avant le concert\nTarif : 20 € (gratuit pour les enfants de -16 ans)
URL:https://meridianu.com/event/bailleul-59-eglise-st-vaast/
END:VEVENT
BEGIN:VEVENT
DTSTART;TZID=Europe/Paris:20251210T200000
DTEND;TZID=Europe/Paris:20251210T200000
DTSTAMP:20260422T104713
CREATED:20251024T084712Z
LAST-MODIFIED:20251024T084712Z
UID:2367-1765396800-1765396800@meridianu.com
SUMMARY:LILLE (59) [ CONCERT PRIVE]
DESCRIPTION:
URL:https://meridianu.com/event/lille-59-concert-prive/
END:VEVENT
BEGIN:VEVENT
DTSTART;TZID=Europe/Paris:20251209T190000
DTEND;TZID=Europe/Paris:20251209T190000
DTSTAMP:20260422T104713
CREATED:20251021T080841Z
LAST-MODIFIED:20251021T082643Z
UID:2352-1765306800-1765306800@meridianu.com
SUMMARY:FRETIN (59) [ THEATRE  RONNY COUTTEURE ]
DESCRIPTION:FRETIN – THEATRE RONNY COUTTEURE\nMardi 9 Decembre à 19:00 \n 
URL:https://meridianu.com/event/fretin-59-theatre-ronny-coutteure-2/
END:VEVENT
BEGIN:VEVENT
DTSTART;TZID=Europe/Paris:20251208T190000
DTEND;TZID=Europe/Paris:20251208T190000
DTSTAMP:20260422T104713
CREATED:20251021T080745Z
LAST-MODIFIED:20251021T080745Z
UID:2350-1765220400-1765220400@meridianu.com
SUMMARY:FRETIN (59) [ THEATRE  RONNY COUTTEURE ]
DESCRIPTION:FRETIN – THEATRE RONNY COUTTEURE\nLundi 8 Decembre à 19:00 \nBillets en vente sur place à 1h avant le concert\nTarif : 25 € (gratuit pour les enfants de -16 ans)
URL:https://meridianu.com/event/fretin-59-theatre-ronny-coutteure/
END:VEVENT
BEGIN:VEVENT
DTSTART;TZID=Europe/Paris:20251207T160000
DTEND;TZID=Europe/Paris:20251207T160000
DTSTAMP:20260422T104713
CREATED:20251021T080415Z
LAST-MODIFIED:20251021T080415Z
UID:2348-1765123200-1765123200@meridianu.com
SUMMARY:MORLANWELZ (BELGIQUE) [ ÉGLISE ST MARTIN ]
DESCRIPTION:MORLANWELZ – ÉGLISE ST MARTIN\nDimanche 7 Decembre à 16:00 \nBillets en vente sur place  1h avant le concert\nTarif : 20 € (gratuit pour les enfants de -16 ans)
URL:https://meridianu.com/event/morlanwelz-belgique-eglise-st-martin/
END:VEVENT
BEGIN:VEVENT
DTSTART;TZID=Europe/Paris:20251206T200000
DTEND;TZID=Europe/Paris:20251206T200000
DTSTAMP:20260422T104713
CREATED:20251021T075830Z
LAST-MODIFIED:20251021T075830Z
UID:2346-1765051200-1765051200@meridianu.com
SUMMARY:WIRWIGNES (62) [ ÉGLISE ST QUENTIN ]
DESCRIPTION:WIRWIGNES – ÉGLISE ST QUENTIN\nSamedi 6 Decembre à 20:00 \nBillets en vente sur place à 1h avant le concert\nTarif : 20 € (gratuit pour les enfants de -16 ans)
URL:https://meridianu.com/event/wirwignes-62-eglise-st-quentin/
END:VEVENT
BEGIN:VEVENT
DTSTART;TZID=Europe/Paris:20251204T183000
DTEND;TZID=Europe/Paris:20251204T183000
DTSTAMP:20260422T104713
CREATED:20250919T075007Z
LAST-MODIFIED:20250925T072406Z
UID:2333-1764873000-1764873000@meridianu.com
SUMMARY:BASTIA [ CASA DI E LINGUE ]
DESCRIPTION:BASTIA – CASA DI E LINGUE\nJeudi 4 Decembre à 18:30  \nCarrughju Sant’Anghjuli 20200 Bastia
URL:https://meridianu.com/event/bastia-casa-di-e-lingue/
END:VEVENT
BEGIN:VEVENT
DTSTART;TZID=Europe/Paris:20251029T183000
DTEND;TZID=Europe/Paris:20251029T183000
DTSTAMP:20260422T104713
CREATED:20250901T084129Z
LAST-MODIFIED:20250901T084129Z
UID:2316-1761762600-1761762600@meridianu.com
SUMMARY:ALGAJOLA [ ÉGLISE ST GEORGES ]
DESCRIPTION:ALGAJOLA – ÉGLISE ST GEORGES\nMercredi 29 Octobre à 18:30 \nBillets en vente sur place à 1h avant le concert et aux Offices de Tourisme d’Ile-Rousse et Calvi\nTarif : 20 € (gratuit pour les enfants de -16 ans)
URL:https://meridianu.com/event/algajola-eglise-st-georges-6/
END:VEVENT
BEGIN:VEVENT
DTSTART;TZID=Europe/Paris:20251023T183000
DTEND;TZID=Europe/Paris:20251023T183000
DTSTAMP:20260422T104713
CREATED:20250925T072212Z
LAST-MODIFIED:20250925T072212Z
UID:2337-1761244200-1761244200@meridianu.com
SUMMARY:ILE ROUSSE_ [ EGLISE DE LA MISERICORDE (DITE DES MOINES) ]
DESCRIPTION:ILE ROUSSE – EGLISE DE LA MISERICORDE (DITE DES MOINES) \nJeudi 23 Septembre à 18:30 \nBillets en vente a l’office du tourisme de l’Ile Rousse et sur place à partir de 1h avant le concert\nTarif : 20 € (gratuit pour les – 16 ans )
URL:https://meridianu.com/event/ile-rousse_-eglise-de-la-misericorde-dite-des-moines-8/
END:VEVENT
BEGIN:VEVENT
DTSTART;TZID=Europe/Paris:20251021T183000
DTEND;TZID=Europe/Paris:20251021T183000
DTSTAMP:20260422T104713
CREATED:20250901T084004Z
LAST-MODIFIED:20250901T084004Z
UID:2314-1761071400-1761071400@meridianu.com
SUMMARY:LUMIO_ [ EGLISE STE MARIE ]
DESCRIPTION:LUMIO – EGLISE STE MARIE \nMardi 21 Octobre à 18:30 \nBillets en vente a l’office du tourisme de Calvi et sur place à partir de 1h avant le concert\nTarif : 20 € (gratuit pour les – 16 ans )
URL:https://meridianu.com/event/lumio_-eglise-ste-marie-8/
END:VEVENT
BEGIN:VEVENT
DTSTART;TZID=Europe/Paris:20251019T160000
DTEND;TZID=Europe/Paris:20251019T160000
DTSTAMP:20260422T104713
CREATED:20250909T085316Z
LAST-MODIFIED:20250909T085316Z
UID:2325-1760889600-1760889600@meridianu.com
SUMMARY:CONDE SUR ESCAUT (59) [ ÉGLISE ST WASNON ]
DESCRIPTION:CONDE SUR ESCAUT – ÉGLISE ST WASNON\nDimanche 19 Octobre à 16:00 \nBillets en vente sur place à 1h avant le concert\nTarif : 20 € (gratuit pour les enfants de -16 ans)
URL:https://meridianu.com/event/conde-sur-escaut-59-eglise-st-wasnon-2/
END:VEVENT
BEGIN:VEVENT
DTSTART;TZID=Europe/Paris:20251018T200000
DTEND;TZID=Europe/Paris:20251018T200000
DTSTAMP:20260422T104713
CREATED:20250909T083903Z
LAST-MODIFIED:20250909T084519Z
UID:2319-1760817600-1760817600@meridianu.com
SUMMARY:LA CHAPELLE D'ARMENTIERES (59) [ ÉGLISE ST VAAST ]
DESCRIPTION:LA CHAPELLE D’ARMENTIERES – ÉGLISE ST VAAST\nSamedi 18 Octobre à 20:00 \nBillets en vente sur place à 1h avant le concert\nTarif : 20 € (gratuit pour les enfants de -16 ans)
URL:https://meridianu.com/event/conde-sur-escaut-59-eglise-st-wasnon/
END:VEVENT
BEGIN:VEVENT
DTSTART;TZID=Europe/Paris:20251015T183000
DTEND;TZID=Europe/Paris:20251015T183000
DTSTAMP:20260422T104713
CREATED:20250925T072027Z
LAST-MODIFIED:20250925T072027Z
UID:2335-1760553000-1760553000@meridianu.com
SUMMARY:ALGAJOLA [ ÉGLISE ST GEORGES ]
DESCRIPTION:ALGAJOLA – ÉGLISE ST GEORGES\nMercredi 15 Octobre à 18:30 \nBillets en vente sur place à 1h avant le concert et aux Offices de Tourisme d’Ile-Rousse et Calvi\nTarif : 20 € (gratuit pour les enfants de -16 ans)
URL:https://meridianu.com/event/algajola-eglise-st-georges-7/
END:VEVENT
BEGIN:VEVENT
DTSTART;TZID=Europe/Paris:20251012T170000
DTEND;TZID=Europe/Paris:20251012T170000
DTSTAMP:20260422T104713
CREATED:20250909T090228Z
LAST-MODIFIED:20250909T090228Z
UID:2329-1760288400-1760288400@meridianu.com
SUMMARY:L'ISLE-SUR-LA-SORGUE(84) [ COLLEGIALE NOTRE DAME DES ANGES ]
DESCRIPTION:L’ISLE-SUR-LA-SORGUE – COLLEGIALE NOTRE DAME DES ANGES\nDimanche 12 Octobre à 17:00 \nBillets en vente sur place à 1h avant le concert\nTarif : 20 € (gratuit pour les enfants de – 16 ans)
URL:https://meridianu.com/event/lisle-sur-la-sorgue84-collegiale-notre-dame-des-anges/
END:VEVENT
BEGIN:VEVENT
DTSTART;TZID=Europe/Paris:20251011T200000
DTEND;TZID=Europe/Paris:20251011T200000
DTSTAMP:20260422T104713
CREATED:20250909T085754Z
LAST-MODIFIED:20250909T085754Z
UID:2327-1760212800-1760212800@meridianu.com
SUMMARY:LA CIOTAT (13) [ ÉGLISE NOTRE DAME ]
DESCRIPTION:LA CIOTAT – ÉGLISE NOTRE DAME\nSamedi 11 Octobre à 20:00 \nBillets en vente sur place à 1h avant le concert\nTarif : 20 € (gratuit pour les enfants de -16ans)
URL:https://meridianu.com/event/la-ciotat-13-eglise-notre-dame/
END:VEVENT
BEGIN:VEVENT
DTSTART;TZID=Europe/Paris:20251009T183000
DTEND;TZID=Europe/Paris:20251009T183000
DTSTAMP:20260422T104713
CREATED:20250901T083830Z
LAST-MODIFIED:20250901T083830Z
UID:2312-1760034600-1760034600@meridianu.com
SUMMARY:SOLENZARA_ [ EGLISE ST PAUL (PORT) ]
DESCRIPTION:SOLENZARA – EGLISE ST PAUL (PORT) \nJeudi 9 Octobre à 18:30 \nBillets en vente sur place à partir de 1h avant le concert\nTarif : 20 € (gratuit pour les – 16 ans )
URL:https://meridianu.com/event/solenzara_-eglise-st-paul-port-7/
END:VEVENT
BEGIN:VEVENT
DTSTART;TZID=Europe/Paris:20251008T180000
DTEND;TZID=Europe/Paris:20251008T180000
DTSTAMP:20260422T104713
CREATED:20250901T083649Z
LAST-MODIFIED:20250901T083649Z
UID:2310-1759946400-1759946400@meridianu.com
SUMMARY:PIANA_ [ EGLISE STE MARIE ]
DESCRIPTION:PIANA – EGLISE STE MARIE \nMercredi 8 Octobre à 18:00 \nBillets en vente sur place à partir de 1h avant le concert\nTarif : 20 € (gratuit pour les – 16 ans )
URL:https://meridianu.com/event/piana_-eglise-ste-marie-6/
END:VEVENT
BEGIN:VEVENT
DTSTART;TZID=Europe/Paris:20251006T183000
DTEND;TZID=Europe/Paris:20251006T183000
DTSTAMP:20260422T104713
CREATED:20250901T083448Z
LAST-MODIFIED:20250901T083448Z
UID:2308-1759775400-1759775400@meridianu.com
SUMMARY:ILE ROUSSE_ [ EGLISE DE LA MISERICORDE (DITE DES MOINES) ]
DESCRIPTION:ILE ROUSSE – EGLISE DE LA MISERICORDE (DITE DES MOINES) \nLundi 6 Octobre à 18:30 \nBillets en vente a l’office du tourisme de l’Ile Rousse et sur place à partir de 1h avant le concert\nTarif : 20 € (gratuit pour les – 16 ans )
URL:https://meridianu.com/event/ile-rousse_-eglise-de-la-misericorde-dite-des-moines-7/
END:VEVENT
BEGIN:VEVENT
DTSTART;TZID=Europe/Paris:20251003T183000
DTEND;TZID=Europe/Paris:20251003T183000
DTSTAMP:20260422T104713
CREATED:20250929T084945Z
LAST-MODIFIED:20251003T070301Z
UID:2342-1759516200-1759516200@meridianu.com
SUMMARY:PIGNA_ [ AUDITORIUM ] ANNULÉ
DESCRIPTION:PIGNA – AUDITORIUM\nVendredi 3 Octobre à 18:30 \nBillets en vente sur place à 15mn avant le concert\nTarif : 15 € (gratuit pour les enfants )
URL:https://meridianu.com/event/pigna_-auditorium-3/
END:VEVENT
BEGIN:VEVENT
DTSTART;TZID=Europe/Paris:20251002T183000
DTEND;TZID=Europe/Paris:20251002T183000
DTSTAMP:20260422T104713
CREATED:20250901T083252Z
LAST-MODIFIED:20250901T083252Z
UID:2306-1759429800-1759429800@meridianu.com
SUMMARY:SAINT FLORENT_ [ CATHEDRALE DU NEBBIU ]
DESCRIPTION:SAINT FLORENT – CATHEDRALE DU NEBBIU \nJeudi 2 Octobre à 18:30 \nBillets en vente sur place à partir de 1h avant le concert\nTarif : 20 € (gratuit pour les – 16 ans )
URL:https://meridianu.com/event/saint-florent_-cathedrale-du-nebbiu-6/
END:VEVENT
BEGIN:VEVENT
DTSTART;TZID=Europe/Paris:20250930T190000
DTEND;TZID=Europe/Paris:20250930T190000
DTSTAMP:20260422T104713
CREATED:20250731T084826Z
LAST-MODIFIED:20250731T084826Z
UID:2303-1759258800-1759258800@meridianu.com
SUMMARY:LUMIO_ [ EGLISE STE MARIE ]
DESCRIPTION:LUMIO – EGLISE STE MARIE \nMardi 30 Septembre à 19:00 \nBillets en vente a l’office du tourisme de Calvi et sur place à partir de 1h avant le concert\nTarif : 20 € (gratuit pour les – 16 ans )
URL:https://meridianu.com/event/lumio_-eglise-ste-marie-7/
END:VEVENT
BEGIN:VEVENT
DTSTART;TZID=Europe/Paris:20250926T190000
DTEND;TZID=Europe/Paris:20250926T190000
DTSTAMP:20260422T104713
CREATED:20250731T084642Z
LAST-MODIFIED:20250731T084642Z
UID:2301-1758913200-1758913200@meridianu.com
SUMMARY:CARGESE _ [ ÉGLISE ST SPYRIDON (GRECQUE) ]
DESCRIPTION:CARGESE – ÉGLISE ST SPYRIDON (GRECQUE)\nVendredi 26 septembre à 19:00 \nBillets en vente sur place à 1h avant le concert\nTarif : 20 € (gratuit pour les enfants de -16 ans)
URL:https://meridianu.com/event/cargese-_-eglise-st-spyridon-grecque-6/
END:VEVENT
END:VCALENDAR