BEGIN:VCALENDAR
VERSION:2.0
PRODID:-//Meridianu - ECPv6.3.4//NONSGML v1.0//EN
CALSCALE:GREGORIAN
METHOD:PUBLISH
X-ORIGINAL-URL:https://meridianu.com
X-WR-CALDESC:évènements pour Meridianu
REFRESH-INTERVAL;VALUE=DURATION:PT1H
X-Robots-Tag:noindex
X-PUBLISHED-TTL:PT1H
BEGIN:VTIMEZONE
TZID:Europe/Paris
BEGIN:DAYLIGHT
TZOFFSETFROM:+0100
TZOFFSETTO:+0200
TZNAME:CEST
DTSTART:20260329T010000
END:DAYLIGHT
BEGIN:STANDARD
TZOFFSETFROM:+0200
TZOFFSETTO:+0100
TZNAME:CET
DTSTART:20261025T010000
END:STANDARD
END:VTIMEZONE
BEGIN:VEVENT
DTSTART;TZID=Europe/Paris:20260520T190000
DTEND;TZID=Europe/Paris:20260520T190000
DTSTAMP:20260422T104829
CREATED:20260414T083938Z
LAST-MODIFIED:20260414T083938Z
UID:2442-1779303600-1779303600@meridianu.com
SUMMARY:ALGAJOLA [ ÉGLISE ST GEORGES ]
DESCRIPTION:ALGAJOLA – ÉGLISE ST GEORGES\nMercredi 20 Mai à 19:00 \nBillets en vente sur place à 1h avant le concert et aux Offices de Tourisme d’Ile-Rousse et Calvi\nTarif : 25 € (gratuit pour les enfants de -16 ans)
URL:https://meridianu.com/event/algajola-eglise-st-georges-10/
END:VEVENT
BEGIN:VEVENT
DTSTART;TZID=Europe/Paris:20260521T193000
DTEND;TZID=Europe/Paris:20260521T193000
DTSTAMP:20260422T104829
CREATED:20260414T084602Z
LAST-MODIFIED:20260414T084602Z
UID:2444-1779391800-1779391800@meridianu.com
SUMMARY:PARIS 8e (75) [ Bibliotheque Musicale La Grange-Fleuret ] (DUO)
DESCRIPTION:PARIS 8e (75) – Bibliotheque Musicale La Grange-Fleuret\nJeudi 21 Mai à 19h30 \nAvec la Soprano Daria Davidoff \nBillets en vente sur Wezevent\nTarif : 40 €
URL:https://meridianu.com/event/paris-8e-75-bibliotheque-musicale-la-grange-fleuret-duo/
END:VEVENT
BEGIN:VEVENT
DTSTART;TZID=Europe/Paris:20260523T193000
DTEND;TZID=Europe/Paris:20260523T193000
DTSTAMP:20260422T104829
CREATED:20260303T164124Z
LAST-MODIFIED:20260303T164124Z
UID:2393-1779564600-1779564600@meridianu.com
SUMMARY:WIRWIGNES (62) [ Eglise St Quentin] (DUO)
DESCRIPTION:WIRWIGNES – Eglise St Quentin\nSamedi 23 Mai à 19:30 \nBillets en vente sur place à partir de 1h avant le concert\nTarif : 20 € (gratuit pour les – 16 ans )
URL:https://meridianu.com/event/wirwignes-62-eglise-st-quentin-duo/
END:VEVENT
BEGIN:VEVENT
DTSTART;TZID=Europe/Paris:20260524T190000
DTEND;TZID=Europe/Paris:20260524T190000
DTSTAMP:20260422T104829
CREATED:20260414T084840Z
LAST-MODIFIED:20260414T084840Z
UID:2446-1779649200-1779649200@meridianu.com
SUMMARY:CORBARA _ [ ÉGLISE DE L'ANNONCIATION ] (DUO)
DESCRIPTION:CORBARA – ÉGLISE DE L’ANNONCIATION (DUO)\nDimanche 24 Mai à 19:00 \nBillets en vente sur place 1h avant le concert et à l’office de tourisme d’Ile Rousse\nTarif : 20 € (gratuit pour les enfants de -16 ans)
URL:https://meridianu.com/event/corbara-_-eglise-de-lannonciation-duo/
END:VEVENT
BEGIN:VEVENT
DTSTART;TZID=Europe/Paris:20260525T190000
DTEND;TZID=Europe/Paris:20260525T190000
DTSTAMP:20260422T104829
CREATED:20260414T085018Z
LAST-MODIFIED:20260414T085018Z
UID:2448-1779735600-1779735600@meridianu.com
SUMMARY:SAINT FLORENT_ [ CATHEDRALE DU NEBBIU ]
DESCRIPTION:SAINT FLORENT – CATHEDRALE DU NEBBIU \nLundi 25 Mai à 19:00 \nBillets en vente sur place à partir de 1h avant le concert\nTarif : 25 € (gratuit pour les – 16 ans )
URL:https://meridianu.com/event/saint-florent_-cathedrale-du-nebbiu-7/
END:VEVENT
BEGIN:VEVENT
DTSTART;TZID=Europe/Paris:20260527T183000
DTEND;TZID=Europe/Paris:20260527T183000
DTSTAMP:20260422T104829
CREATED:20260414T085208Z
LAST-MODIFIED:20260414T085208Z
UID:2450-1779906600-1779906600@meridianu.com
SUMMARY:PIANA_ [ EGLISE STE MARIE ] (DUO)
DESCRIPTION:PIANA – EGLISE STE MARIE \nMercredi 27 Mai à 18:30 \nBillets en vente sur place à partir de 1h avant le concert\nTarif : 20 € (gratuit pour les – 16 ans )
URL:https://meridianu.com/event/piana_-eglise-ste-marie-duo/
END:VEVENT
BEGIN:VEVENT
DTSTART;TZID=Europe/Paris:20260528T190000
DTEND;TZID=Europe/Paris:20260528T190000
DTSTAMP:20260422T104829
CREATED:20260414T085358Z
LAST-MODIFIED:20260414T085358Z
UID:2452-1779994800-1779994800@meridianu.com
SUMMARY:CALVI_ [ CATHEDRALE ST JEAN BAPTISTE (CITADELLE) ]
DESCRIPTION:CALVI -CATHEDRALE ST JEAN BAPTISTE (CITADELLE) \nJeudi 28 Mai à 19:00 \nBillets en vente a l’office du tourisme de Calvi et sur place à partir de 1h avant le concert\nTarif : 25 € (gratuit pour les – 16 ans )
URL:https://meridianu.com/event/calvi_-cathedrale-st-jean-baptiste-citadelle-8/
END:VEVENT
BEGIN:VEVENT
DTSTART;TZID=Europe/Paris:20260529T190000
DTEND;TZID=Europe/Paris:20260529T190000
DTSTAMP:20260422T104829
CREATED:20260414T085605Z
LAST-MODIFIED:20260414T085605Z
UID:2454-1780081200-1780081200@meridianu.com
SUMMARY:CERVIONE_ [ PRO-CATHEDRALE ST ERASME ] (DUO)
DESCRIPTION:CERVIONE – PRO-CATHEDRALE ST ERASME \nVendredi 29 Mai à 19:00 \nBillets en vente a l’office du tourisme de la Costa Verde et sur place à partir de 1h avant le concert\nTarif : 20 € (gratuit pour les – 16 ans )
URL:https://meridianu.com/event/cervione_-pro-cathedrale-st-erasme-duo/
END:VEVENT
END:VCALENDAR